BEGIN:VCALENDAR
VERSION:2.0
PRODID:-//Vocal Group Revolt - ECPv6.15.20//NONSGML v1.0//EN
CALSCALE:GREGORIAN
METHOD:PUBLISH
X-WR-CALNAME:Vocal Group Revolt
X-ORIGINAL-URL:https://vocalgrouprevolt.nl
X-WR-CALDESC:Evenementen voor Vocal Group Revolt
REFRESH-INTERVAL;VALUE=DURATION:PT1H
X-Robots-Tag:noindex
X-PUBLISHED-TTL:PT1H
BEGIN:VTIMEZONE
TZID:UTC
BEGIN:STANDARD
TZOFFSETFROM:+0000
TZOFFSETTO:+0000
TZNAME:UTC
DTSTART:20230101T000000
END:STANDARD
END:VTIMEZONE
BEGIN:VTIMEZONE
TZID:Europe/Amsterdam
BEGIN:DAYLIGHT
TZOFFSETFROM:+0100
TZOFFSETTO:+0200
TZNAME:CEST
DTSTART:20230326T010000
END:DAYLIGHT
BEGIN:STANDARD
TZOFFSETFROM:+0200
TZOFFSETTO:+0100
TZNAME:CET
DTSTART:20231029T010000
END:STANDARD
BEGIN:DAYLIGHT
TZOFFSETFROM:+0100
TZOFFSETTO:+0200
TZNAME:CEST
DTSTART:20240331T010000
END:DAYLIGHT
BEGIN:STANDARD
TZOFFSETFROM:+0200
TZOFFSETTO:+0100
TZNAME:CET
DTSTART:20241027T010000
END:STANDARD
BEGIN:DAYLIGHT
TZOFFSETFROM:+0100
TZOFFSETTO:+0200
TZNAME:CEST
DTSTART:20250330T010000
END:DAYLIGHT
BEGIN:STANDARD
TZOFFSETFROM:+0200
TZOFFSETTO:+0100
TZNAME:CET
DTSTART:20251026T010000
END:STANDARD
END:VTIMEZONE
BEGIN:VEVENT
DTSTART;TZID=UTC:20241208T160000
DTEND;TZID=UTC:20241208T210000
DTSTAMP:20260419T131312
CREATED:20241110T111557Z
LAST-MODIFIED:20241208T111248Z
UID:1670-1733673600-1733691600@vocalgrouprevolt.nl
SUMMARY:Kerstmarkt Biezantijn
DESCRIPTION:Zondag 8 december staan we op de kerstmarkt bij Wijkcentrum de Biezantijn. De kerstmarkt start om 16:00. Je kan genieten van kerstmuziek van o.a. ons\, lekkernijen en er zijn activiteiten voor kinderen. Ook is er een vuurkorf! Wij zullen om 19:00 optreden met een speciale Kerst setlist. Wees welkom!
URL:https://vocalgrouprevolt.nl/event/kerstmarkt-biezantijn/
LOCATION:De Biezantijn\, Waterstraat 146\, Nijmegen\, 6541 TN\, Netherlands
END:VEVENT
BEGIN:VEVENT
DTSTART;VALUE=DATE:20241109
DTEND;VALUE=DATE:20241110
DTSTAMP:20260419T131312
CREATED:20240724T180944Z
LAST-MODIFIED:20240724T180944Z
UID:1646-1731110400-1731196799@vocalgrouprevolt.nl
SUMMARY:BALK TOPfestival
DESCRIPTION:Vocal Group Revolt is geselecteerd voor BALK TOPfestival! Op zaterdag 9 november staan we in de Doelen in Rotterdam met meer dan 40 andere topkoren. Dit zal de eerste keer zijn dat we buiten regio Nijmegen optreden.
URL:https://vocalgrouprevolt.nl/event/balk-topfestival/
LOCATION:de Doelen\, Rotterdam\, Schouwburgplein 50\, Rotterdam\, Zuid-Holland\, 3012 CL\, Nederland
END:VEVENT
BEGIN:VEVENT
DTSTART;TZID=Europe/Amsterdam:20240622T200000
DTEND;TZID=Europe/Amsterdam:20240622T220000
DTSTAMP:20260419T131312
CREATED:20240412T122124Z
LAST-MODIFIED:20240506T145127Z
UID:1350-1719086400-1719093600@vocalgrouprevolt.nl
SUMMARY:Eindoptreden Revolt
DESCRIPTION:Revolt bestaat 5 jaar! En dat gaan we groots vieren. Ook dit jaar kan je tijdens het eindoptreden nieuwe nummers van Revolt verwachten\, maar ter ere van hun 5-jarig jubileum grijpen ze ook terug naar hun oude repertoire. En zoals altijd is er een leuke mix aan genres en sinds dit jaar ook verschillende talen! \nWees erbij! Revolt presents: You Can’t Stop The Beat! Immers\, ze zijn niet te stoppen.
URL:https://vocalgrouprevolt.nl/event/eindoptreden-revolt/
LOCATION:De Lindenberg\, Ridderstraat 23\, Nijmegen\, 6511TM\, Netherlands
CATEGORIES:Optreden
ATTACH;FMTTYPE=image/png:https://vocalgrouprevolt.nl/wp-content/uploads/2024/04/Cant-stop-the-beat-2.png
END:VEVENT
BEGIN:VEVENT
DTSTART;TZID=Europe/Amsterdam:20240602T172000
DTEND;TZID=Europe/Amsterdam:20240602T175000
DTSTAMP:20260419T131312
CREATED:20240412T120816Z
LAST-MODIFIED:20240412T120816Z
UID:1338-1717348800-1717350600@vocalgrouprevolt.nl
SUMMARY:Nijmegen Klinkt
DESCRIPTION:Net als de voorgaande jaren doet Revolt ook dit jaar weer mee aan Nijmegen Klinkt. Tijdens dit evenement in de binnenstad van Nijmegen komen 125 muziekgezelschappen samen om de bezoekers te trakteren op twee dagen vol muziek en gezelligheid. Dit jaar vindt het plaats op 1 en 2 juni. Kom je ook kijken naar het nieuwe repetoire wat Revolt dit jaar voor jullie heeft voorbereid?
URL:https://vocalgrouprevolt.nl/event/nijmegen-klinkt/
LOCATION:Raadhuishof\, Nijmegen\, 6511PW
ATTACH;FMTTYPE=image/png:https://vocalgrouprevolt.nl/wp-content/uploads/2024/04/nijmegen-klinkt-logo-transparant-logo-site.png
END:VEVENT
BEGIN:VEVENT
DTSTART;TZID=UTC:20240602T140000
DTEND;TZID=UTC:20240602T150000
DTSTAMP:20260419T131312
CREATED:20240430T182551Z
LAST-MODIFIED:20240430T182551Z
UID:1480-1717336800-1717340400@vocalgrouprevolt.nl
SUMMARY:Plantenmarkt
DESCRIPTION:
URL:https://vocalgrouprevolt.nl/event/plantenmarkt/
LOCATION:Limosterrein\, Nijmegen\, Gelderland\, Nederland
END:VEVENT
END:VCALENDAR